BEGIN:VCALENDAR
VERSION:2.0
PRODID:-//The Lighthouse Music &amp; Arts - ECPv6.15.20//NONSGML v1.0//EN
CALSCALE:GREGORIAN
METHOD:PUBLISH
X-WR-CALNAME:The Lighthouse Music &amp; Arts
X-ORIGINAL-URL:https://thelighthousedeal.co.uk
X-WR-CALDESC:Events for The Lighthouse Music &amp; Arts
REFRESH-INTERVAL;VALUE=DURATION:PT1H
X-Robots-Tag:noindex
X-PUBLISHED-TTL:PT1H
BEGIN:VTIMEZONE
TZID:Europe/London
BEGIN:DAYLIGHT
TZOFFSETFROM:+0000
TZOFFSETTO:+0100
TZNAME:BST
DTSTART:20250330T010000
END:DAYLIGHT
BEGIN:STANDARD
TZOFFSETFROM:+0100
TZOFFSETTO:+0000
TZNAME:GMT
DTSTART:20251026T010000
END:STANDARD
BEGIN:DAYLIGHT
TZOFFSETFROM:+0000
TZOFFSETTO:+0100
TZNAME:BST
DTSTART:20260329T010000
END:DAYLIGHT
BEGIN:STANDARD
TZOFFSETFROM:+0100
TZOFFSETTO:+0000
TZNAME:GMT
DTSTART:20261025T010000
END:STANDARD
BEGIN:DAYLIGHT
TZOFFSETFROM:+0000
TZOFFSETTO:+0100
TZNAME:BST
DTSTART:20270328T010000
END:DAYLIGHT
BEGIN:STANDARD
TZOFFSETFROM:+0100
TZOFFSETTO:+0000
TZNAME:GMT
DTSTART:20271031T010000
END:STANDARD
END:VTIMEZONE
BEGIN:VEVENT
DTSTART;TZID=Europe/London:20260423T200000
DTEND;TZID=Europe/London:20260423T223000
DTSTAMP:20260424T185722
CREATED:20260407T200551Z
LAST-MODIFIED:20260407T200551Z
UID:10000005-1776974400-1776983400@thelighthousedeal.co.uk
SUMMARY:Lighthouse Quiz Night
DESCRIPTION:COME ON UP TO THE HOUSE FOR THE MONTHLY LIGHTHOUSE QUIZ NIGHT! \nA pub quiz with multimedia twists and surprises! Fun and challenging in equal measures\, have your chance to claim some prize money or perhaps the mystery booby prize!
URL:https://thelighthousedeal.co.uk/event/lighthouse-quiz-night/
LOCATION:Kent
CATEGORIES:Community
ATTACH;FMTTYPE=image/jpeg:https://thelighthousedeal.co.uk/wp-content/uploads/2026/04/Quiz2021-A3_rgb300-scaled-GitpD2.jpg
END:VEVENT
END:VCALENDAR