BEGIN:VCALENDAR
VERSION:2.0
PRODID:-//The Lighthouse Music &amp; Arts - ECPv6.15.20//NONSGML v1.0//EN
CALSCALE:GREGORIAN
METHOD:PUBLISH
X-WR-CALNAME:The Lighthouse Music &amp; Arts
X-ORIGINAL-URL:https://thelighthousedeal.co.uk
X-WR-CALDESC:Events for The Lighthouse Music &amp; Arts
REFRESH-INTERVAL;VALUE=DURATION:PT1H
X-Robots-Tag:noindex
X-PUBLISHED-TTL:PT1H
BEGIN:VTIMEZONE
TZID:Europe/London
BEGIN:DAYLIGHT
TZOFFSETFROM:+0000
TZOFFSETTO:+0100
TZNAME:BST
DTSTART:20250330T010000
END:DAYLIGHT
BEGIN:STANDARD
TZOFFSETFROM:+0100
TZOFFSETTO:+0000
TZNAME:GMT
DTSTART:20251026T010000
END:STANDARD
BEGIN:DAYLIGHT
TZOFFSETFROM:+0000
TZOFFSETTO:+0100
TZNAME:BST
DTSTART:20260329T010000
END:DAYLIGHT
BEGIN:STANDARD
TZOFFSETFROM:+0100
TZOFFSETTO:+0000
TZNAME:GMT
DTSTART:20261025T010000
END:STANDARD
BEGIN:DAYLIGHT
TZOFFSETFROM:+0000
TZOFFSETTO:+0100
TZNAME:BST
DTSTART:20270328T010000
END:DAYLIGHT
BEGIN:STANDARD
TZOFFSETFROM:+0100
TZOFFSETTO:+0000
TZNAME:GMT
DTSTART:20271031T010000
END:STANDARD
END:VTIMEZONE
BEGIN:VEVENT
DTSTART;TZID=Europe/London:20260604T200000
DTEND;TZID=Europe/London:20260604T223000
DTSTAMP:20260424T220723
CREATED:20260422T140918Z
LAST-MODIFIED:20260422T140959Z
UID:10000029-1780603200-1780612200@thelighthousedeal.co.uk
SUMMARY:James Oliver Blues Band (With Legendary Bassist Norman Watt-Roy)
DESCRIPTION:
URL:https://thelighthousedeal.co.uk/event/james-oliver-blues-with-legendary-bassist-norman-watt-roy/
LOCATION:The Lighthouse\, 50 The Strand\, Deal\, Kent\, CT14 7DX\, United Kingdom
CATEGORIES:Shows
ATTACH;FMTTYPE=image/jpeg:https://thelighthousedeal.co.uk/wp-content/uploads/2026/04/JamesOliverBluesBand_04-06-26-scaled.jpg
END:VEVENT
END:VCALENDAR