BEGIN:VCALENDAR
VERSION:2.0
PRODID:-//The Lighthouse Music &amp; Arts - ECPv6.15.20//NONSGML v1.0//EN
CALSCALE:GREGORIAN
METHOD:PUBLISH
X-WR-CALNAME:The Lighthouse Music &amp; Arts
X-ORIGINAL-URL:https://thelighthousedeal.co.uk
X-WR-CALDESC:Events for The Lighthouse Music &amp; Arts
REFRESH-INTERVAL;VALUE=DURATION:PT1H
X-Robots-Tag:noindex
X-PUBLISHED-TTL:PT1H
BEGIN:VTIMEZONE
TZID:Europe/London
BEGIN:DAYLIGHT
TZOFFSETFROM:+0000
TZOFFSETTO:+0100
TZNAME:BST
DTSTART:20250330T010000
END:DAYLIGHT
BEGIN:STANDARD
TZOFFSETFROM:+0100
TZOFFSETTO:+0000
TZNAME:GMT
DTSTART:20251026T010000
END:STANDARD
BEGIN:DAYLIGHT
TZOFFSETFROM:+0000
TZOFFSETTO:+0100
TZNAME:BST
DTSTART:20260329T010000
END:DAYLIGHT
BEGIN:STANDARD
TZOFFSETFROM:+0100
TZOFFSETTO:+0000
TZNAME:GMT
DTSTART:20261025T010000
END:STANDARD
BEGIN:DAYLIGHT
TZOFFSETFROM:+0000
TZOFFSETTO:+0100
TZNAME:BST
DTSTART:20270328T010000
END:DAYLIGHT
BEGIN:STANDARD
TZOFFSETFROM:+0100
TZOFFSETTO:+0000
TZNAME:GMT
DTSTART:20271031T010000
END:STANDARD
END:VTIMEZONE
BEGIN:VEVENT
DTSTART;TZID=Europe/London:20260423T200000
DTEND;TZID=Europe/London:20260423T223000
DTSTAMP:20260422T132224
CREATED:20260407T200551Z
LAST-MODIFIED:20260407T200551Z
UID:10000005-1776974400-1776983400@thelighthousedeal.co.uk
SUMMARY:Lighthouse Quiz Night
DESCRIPTION:COME ON UP TO THE HOUSE FOR THE MONTHLY LIGHTHOUSE QUIZ NIGHT! \nA pub quiz with multimedia twists and surprises! Fun and challenging in equal measures\, have your chance to claim some prize money or perhaps the mystery booby prize!
URL:https://thelighthousedeal.co.uk/event/lighthouse-quiz-night/
LOCATION:Kent
CATEGORIES:Community
ATTACH;FMTTYPE=image/jpeg:https://thelighthousedeal.co.uk/wp-content/uploads/2026/04/Quiz2021-A3_rgb300-scaled-GitpD2.jpg
END:VEVENT
BEGIN:VEVENT
DTSTART;TZID=Europe/London:20260424T203000
DTEND;TZID=Europe/London:20260424T230000
DTSTAMP:20260422T132224
CREATED:20260410T142748Z
LAST-MODIFIED:20260410T142748Z
UID:10000010-1777062600-1777071600@thelighthousedeal.co.uk
SUMMARY:‘Glow In The Dark’ – Callum Sutton + The Echograms
DESCRIPTION:Welcome to ‘Glow In The Dark’.\nEight nights of original music from across Kent – bringing together established artists and emerging under-30 talent to celebrate grassroots innovation.
URL:https://thelighthousedeal.co.uk/event/glow-in-the-dark-callum-sutton-the-echograms/
LOCATION:The Lighthouse\, 50 The Strand\, Deal\, Kent\, CT14 7DX\, United Kingdom
CATEGORIES:Shows
ATTACH;FMTTYPE=image/jpeg:https://thelighthousedeal.co.uk/wp-content/uploads/2026/04/GITD_Show3_web.jpg
END:VEVENT
BEGIN:VEVENT
DTSTART;TZID=Europe/London:20260426T180000
DTEND;TZID=Europe/London:20260426T200000
DTSTAMP:20260422T132224
CREATED:20260414T143447Z
LAST-MODIFIED:20260414T143447Z
UID:10000017-1777226400-1777233600@thelighthousedeal.co.uk
SUMMARY:‘Sunday Service’ feat. Ivan’s All-Stars
DESCRIPTION:Join us for the ‘Sunday Service’ early evening live music session featuring …
URL:https://thelighthousedeal.co.uk/event/sunday-service-feat-ivans-all-stars/
LOCATION:The Lighthouse\, 50 The Strand\, Deal\, Kent\, CT14 7DX\, United Kingdom
CATEGORIES:Shows,Sunday Service Sessions
ATTACH;FMTTYPE=image/jpeg:https://thelighthousedeal.co.uk/wp-content/uploads/2026/04/IvansAllstars_26-05-26.jpg
END:VEVENT
BEGIN:VEVENT
DTSTART;TZID=Europe/London:20260501T203000
DTEND;TZID=Europe/London:20260501T230000
DTSTAMP:20260422T132224
CREATED:20260421T201000Z
LAST-MODIFIED:20260421T203133Z
UID:10000025-1777667400-1777676400@thelighthousedeal.co.uk
SUMMARY:De Plaag (Netherlands)
DESCRIPTION:“a cheeky\, explosive mix of electro pop\, hip hop and punk”
URL:https://thelighthousedeal.co.uk/event/de-plaag-netherlands/
LOCATION:The Lighthouse\, 50 The Strand\, Deal\, Kent\, CT14 7DX\, United Kingdom
CATEGORIES:Shows
ATTACH;FMTTYPE=image/jpeg:https://thelighthousedeal.co.uk/wp-content/uploads/2026/04/DenPlaag_01-05-26_web.jpg
END:VEVENT
BEGIN:VEVENT
DTSTART;TZID=Europe/London:20260507T200000
DTEND;TZID=Europe/London:20260507T223000
DTSTAMP:20260422T132224
CREATED:20260410T142749Z
LAST-MODIFIED:20260421T123657Z
UID:10000011-1778184000-1778193000@thelighthousedeal.co.uk
SUMMARY:'Altered State Jazz' Presents ... Binker Golding
DESCRIPTION:‘Altered State Jazz’ … hosting a brave new world of live jazz events on the East coast of Kent.
URL:https://thelighthousedeal.co.uk/event/binker-golding/
LOCATION:The Lighthouse\, 50 The Strand\, Deal\, Kent\, CT14 7DX\, United Kingdom
CATEGORIES:Altered State Jazz,Shows
ATTACH;FMTTYPE=image/jpeg:https://thelighthousedeal.co.uk/wp-content/uploads/2026/04/BinkerGolding_07-05-26_web-1.jpg
END:VEVENT
BEGIN:VEVENT
DTSTART;TZID=Europe/London:20260508T203000
DTEND;TZID=Europe/London:20260508T230000
DTSTAMP:20260422T132224
CREATED:20260414T161942Z
LAST-MODIFIED:20260414T161942Z
UID:10000019-1778272200-1778281200@thelighthousedeal.co.uk
SUMMARY:‘Glow In The Dark’ – The Hellfire Orchestra + TEZ
DESCRIPTION:Welcome to ‘Glow In The Dark’. \nEight nights of original music from across Kent – bringing together established artists and emerging under-30 talent to celebrate grassroots innovation.
URL:https://thelighthousedeal.co.uk/event/glow-in-the-dark-the-hellfire-orchestra-tez/
LOCATION:The Lighthouse\, 50 The Strand\, Deal\, Kent\, CT14 7DX\, United Kingdom
CATEGORIES:Glow In The Dark,Shows
ATTACH;FMTTYPE=image/jpeg:https://thelighthousedeal.co.uk/wp-content/uploads/2026/04/GITD_Show4.jpg
END:VEVENT
BEGIN:VEVENT
DTSTART;TZID=Europe/London:20260514T200000
DTEND;TZID=Europe/London:20260514T223000
DTSTAMP:20260422T132224
CREATED:20260414T123426Z
LAST-MODIFIED:20260421T124149Z
UID:10000012-1778788800-1778797800@thelighthousedeal.co.uk
SUMMARY:Soft Machine
DESCRIPTION:“This isn’t a nostalgia or revival band but a very vital unit\, contemporary and alert\, consistently humane\, still capable of surprise and delight” – The Wire (Brian Morton)
URL:https://thelighthousedeal.co.uk/event/soft-machine/
LOCATION:The Lighthouse\, 50 The Strand\, Deal\, Kent\, CT14 7DX\, United Kingdom
CATEGORIES:Shows
ATTACH;FMTTYPE=image/jpeg:https://thelighthousedeal.co.uk/wp-content/uploads/2026/04/SoftMachine_14-05-26.jpg
END:VEVENT
BEGIN:VEVENT
DTSTART;TZID=Europe/London:20260516T203000
DTEND;TZID=Europe/London:20260516T230000
DTSTAMP:20260422T132224
CREATED:20260414T123428Z
LAST-MODIFIED:20260414T131656Z
UID:10000013-1778963400-1778972400@thelighthousedeal.co.uk
SUMMARY:The Utopia Strong + Bruise Blood
DESCRIPTION:“Lush textures through unexpectedly contemporary sounding kosmiche”\n– The Wire
URL:https://thelighthousedeal.co.uk/event/the-utopia-strong-bruise-blood/
LOCATION:The Lighthouse\, 50 The Strand\, Deal\, Kent\, CT14 7DX\, United Kingdom
CATEGORIES:Shows
ATTACH;FMTTYPE=image/jpeg:https://thelighthousedeal.co.uk/wp-content/uploads/2026/04/TheUtopiaStrong_16-05-26.jpg
END:VEVENT
BEGIN:VEVENT
DTSTART;TZID=Europe/London:20260527T203000
DTEND;TZID=Europe/London:20260527T230000
DTSTAMP:20260422T132224
CREATED:20260414T161943Z
LAST-MODIFIED:20260414T162152Z
UID:10000020-1779913800-1779922800@thelighthousedeal.co.uk
SUMMARY:‘Glow In The Dark’ – The Ashen Keys + Izzy Woodland Trio
DESCRIPTION:Welcome to ‘Glow In The Dark’. \nEight nights of original music from across Kent – bringing together established artists and emerging under-30 talent to celebrate grassroots innovation.
URL:https://thelighthousedeal.co.uk/event/glow-in-the-dark-the-ashen-keys-izzy-woodland-trio/
LOCATION:The Lighthouse\, 50 The Strand\, Deal\, Kent\, CT14 7DX\, United Kingdom
CATEGORIES:Glow In The Dark,Shows
ATTACH;FMTTYPE=image/jpeg:https://thelighthousedeal.co.uk/wp-content/uploads/2026/04/GITD_Show5.jpg
END:VEVENT
BEGIN:VEVENT
DTSTART;TZID=Europe/London:20260528T203000
DTEND;TZID=Europe/London:20260528T230000
DTSTAMP:20260422T132224
CREATED:20260414T191946Z
LAST-MODIFIED:20260414T192059Z
UID:10000024-1780000200-1780009200@thelighthousedeal.co.uk
SUMMARY:Vipertime + Moron Butler
DESCRIPTION:“Really f***ing happening. I dig this big time”\n– Mike Watt (Minutemen\, The Stooges) \nLeeds aggro-jazz group Vipertime and Kent-based post- punk band Moron Butler launch their new collaborative album ‘Vipertime & Moron Butler’. \nLyric heavy\, hard edged and combining the acerbic attack of Gang of Four\, the motoric drive of krautrock and the abstractions of John Coltrane\, the album is released this May on Hastings label Property Of The Lost.\nExpect a set from each band plus plenty of cross-pollination.
URL:https://thelighthousedeal.co.uk/event/vipertime-moron-butler/
LOCATION:The Lighthouse\, 50 The Strand\, Deal\, Kent\, CT14 7DX\, United Kingdom
CATEGORIES:Shows
ATTACH;FMTTYPE=image/jpeg:https://thelighthousedeal.co.uk/wp-content/uploads/2026/04/VipertimeMoronButler_28-05-28.jpg
END:VEVENT
BEGIN:VEVENT
DTSTART;TZID=Europe/London:20260606T203000
DTEND;TZID=Europe/London:20260606T230000
DTSTAMP:20260422T132224
CREATED:20260414T161944Z
LAST-MODIFIED:20260414T161944Z
UID:10000021-1780777800-1780786800@thelighthousedeal.co.uk
SUMMARY:‘Glow In The Dark’ – Yesterday’s Flowers + Fine Lime
DESCRIPTION:Welcome to ‘Glow In The Dark’. \nEight nights of original music from across Kent – bringing together established artists and emerging under-30 talent to celebrate grassroots innovation.
URL:https://thelighthousedeal.co.uk/event/glow-in-the-dark-yesterdays-flowers-fine-lime/
LOCATION:The Lighthouse\, 50 The Strand\, Deal\, Kent\, CT14 7DX\, United Kingdom
CATEGORIES:Glow In The Dark,Shows
ATTACH;FMTTYPE=image/jpeg:https://thelighthousedeal.co.uk/wp-content/uploads/2026/04/GITD_Show6.jpg
END:VEVENT
BEGIN:VEVENT
DTSTART;TZID=Europe/London:20260619T203000
DTEND;TZID=Europe/London:20260619T230000
DTSTAMP:20260422T132224
CREATED:20260414T161945Z
LAST-MODIFIED:20260414T161945Z
UID:10000022-1781901000-1781910000@thelighthousedeal.co.uk
SUMMARY:‘Glow In The Dark’ – Josh Magill + Fuji Hideout
DESCRIPTION:Welcome to ‘Glow In The Dark’. \nEight nights of original music from across Kent – bringing together established artists and emerging under-30 talent to celebrate grassroots innovation.
URL:https://thelighthousedeal.co.uk/event/glow-in-the-dark-josh-magill-fuji-hideout/
LOCATION:The Lighthouse\, 50 The Strand\, Deal\, Kent\, CT14 7DX\, United Kingdom
CATEGORIES:Glow In The Dark,Shows
ATTACH;FMTTYPE=image/jpeg:https://thelighthousedeal.co.uk/wp-content/uploads/2026/04/GITD_Show7.jpg
END:VEVENT
BEGIN:VEVENT
DTSTART;TZID=Europe/London:20260624T200000
DTEND;TZID=Europe/London:20260624T223000
DTSTAMP:20260422T132224
CREATED:20260407T200553Z
LAST-MODIFIED:20260414T131823Z
UID:10000006-1782331200-1782340200@thelighthousedeal.co.uk
SUMMARY:'Altered State Jazz' Presents ... Led Bib
DESCRIPTION:‘Altered State Jazz’ … hosting a brave new world of live jazz events on the East coast of Kent.
URL:https://thelighthousedeal.co.uk/event/led-bib/
LOCATION:The Lighthouse\, 50 The Strand\, Deal\, Kent\, CT14 7DX\, United Kingdom
CATEGORIES:Altered State Jazz,Shows
ATTACH;FMTTYPE=image/jpeg:https://thelighthousedeal.co.uk/wp-content/uploads/2026/04/LedBib_24-06-26-scaled.jpg
END:VEVENT
BEGIN:VEVENT
DTSTART;TZID=Europe/London:20260625T200000
DTEND;TZID=Europe/London:20260625T223000
DTSTAMP:20260422T132224
CREATED:20260414T123429Z
LAST-MODIFIED:20260421T131030Z
UID:10000014-1782417600-1782426600@thelighthousedeal.co.uk
SUMMARY:Rob Heron & The Tea Pad Orchestra
DESCRIPTION:“Hank did it like this. So did Sinatra. So did Tom Waits. So did John Lee Hooker. Mix these influences with a healthy dose of youthful enthusiasm\, a real passion and an ear for detail\, sheer authenticity\, and a good slug of both Scotch and Bourbon\, and you might find that the results are very much to your taste. They are certainly to mine.”\n– Mark Whyatt\, Folk Radio
URL:https://thelighthousedeal.co.uk/event/rob-heron-the-tea-pad-orchestra/
LOCATION:The Lighthouse\, 50 The Strand\, Deal\, Kent\, CT14 7DX\, United Kingdom
CATEGORIES:Shows
ATTACH;FMTTYPE=image/jpeg:https://thelighthousedeal.co.uk/wp-content/uploads/2026/04/RobHeronTheTeapadO_25-06-26.jpg
END:VEVENT
BEGIN:VEVENT
DTSTART;TZID=Europe/London:20260703T203000
DTEND;TZID=Europe/London:20260703T230000
DTSTAMP:20260422T132224
CREATED:20260414T161947Z
LAST-MODIFIED:20260414T161947Z
UID:10000023-1783110600-1783119600@thelighthousedeal.co.uk
SUMMARY:‘Glow In The Dark’ – Clusters of Eyes + debdepan
DESCRIPTION:Welcome to ‘Glow In The Dark’. \nEight nights of original music from across Kent – bringing together established artists and emerging under-30 talent to celebrate grassroots innovation.
URL:https://thelighthousedeal.co.uk/event/glow-in-the-dark-clusters-of-eyes-debdepan/
LOCATION:The Lighthouse\, 50 The Strand\, Deal\, Kent\, CT14 7DX\, United Kingdom
CATEGORIES:Glow In The Dark,Shows
ATTACH;FMTTYPE=image/jpeg:https://thelighthousedeal.co.uk/wp-content/uploads/2026/04/GITD_Show8.jpg
END:VEVENT
BEGIN:VEVENT
DTSTART;TZID=Europe/London:20260813T200000
DTEND;TZID=Europe/London:20260813T223000
DTSTAMP:20260422T132224
CREATED:20260414T131047Z
LAST-MODIFIED:20260414T132149Z
UID:10000015-1786651200-1786660200@thelighthousedeal.co.uk
SUMMARY:King Zepha
DESCRIPTION:
URL:https://thelighthousedeal.co.uk/event/king-zepha/
LOCATION:The Lighthouse\, 50 The Strand\, Deal\, Kent\, CT14 7DX\, United Kingdom
CATEGORIES:Shows
ATTACH;FMTTYPE=image/jpeg:https://thelighthousedeal.co.uk/wp-content/uploads/2026/04/KingZepha_14-08-26-1.jpg
END:VEVENT
END:VCALENDAR